BEGIN:VCALENDAR
VERSION:2.0
PRODID:-//Центр Успешных Отношений - ECPv6.14.0//NONSGML v1.0//EN
CALSCALE:GREGORIAN
METHOD:PUBLISH
X-WR-CALNAME:Центр Успешных Отношений
X-ORIGINAL-URL:https://psycenter.by
X-WR-CALDESC:Мероприятия для Центр Успешных Отношений
REFRESH-INTERVAL;VALUE=DURATION:PT1H
X-Robots-Tag:noindex
X-PUBLISHED-TTL:PT1H
BEGIN:VTIMEZONE
TZID:UTC
BEGIN:STANDARD
TZOFFSETFROM:+0000
TZOFFSETTO:+0000
TZNAME:UTC
DTSTART:20240101T000000
END:STANDARD
END:VTIMEZONE
BEGIN:VEVENT
DTSTART;TZID=UTC:20241018T183000
DTEND;TZID=UTC:20281019T203000
DTSTAMP:20260421T165320
CREATED:20240709T101557Z
LAST-MODIFIED:20240709T101741Z
UID:26135-1729276200-1855600200@psycenter.by
SUMMARY:«Весело вместе»: совместное занятие для родителей и детей
DESCRIPTION:
URL:https://psycenter.by/event/veselo-vmeste-sovmestnoe-zanyatie-dlya-roditelej-i-detej
LOCATION:Центр успешных отношений (Заводская\, 10)\, ул. Заводская 10-25 (2 мин от ст.м. Пролетарская)\, Минск\, Беларусь
CATEGORIES:Для детей,Занятие с психологом
END:VEVENT
END:VCALENDAR