BEGIN:VCALENDAR
VERSION:2.0
PRODID:-//Центр Успешных Отношений - ECPv6.14.0//NONSGML v1.0//EN
CALSCALE:GREGORIAN
METHOD:PUBLISH
X-WR-CALNAME:Центр Успешных Отношений
X-ORIGINAL-URL:https://psycenter.by
X-WR-CALDESC:Мероприятия для Центр Успешных Отношений
REFRESH-INTERVAL;VALUE=DURATION:PT1H
X-Robots-Tag:noindex
X-PUBLISHED-TTL:PT1H
BEGIN:VTIMEZONE
TZID:UTC
BEGIN:STANDARD
TZOFFSETFROM:+0000
TZOFFSETTO:+0000
TZNAME:UTC
DTSTART:20260101T000000
END:STANDARD
END:VTIMEZONE
BEGIN:VEVENT
DTSTART;TZID=UTC:20260317T183000
DTEND;TZID=UTC:20260317T210000
DTSTAMP:20260421T164845
CREATED:20230503T080919Z
LAST-MODIFIED:20260119T070519Z
UID:15219-1773772200-1773781200@psycenter.by
SUMMARY:Групповая терапия
DESCRIPTION:
URL:https://psycenter.by/event/gruppovaya-terapiya-2
LOCATION:Центр успешных отношений (Богдановича\, 37)\, ул. Богдановича\, 37/ Киселёва\, 53\, Минск\, Беларусь
CATEGORIES:Лекции, встречи, группы
END:VEVENT
END:VCALENDAR